BEGIN:VCALENDAR
VERSION:2.0
PRODID:-//Claygate Clinic - ECPv6.15.18//NONSGML v1.0//EN
CALSCALE:GREGORIAN
METHOD:PUBLISH
X-ORIGINAL-URL:https://claygateclinic.co.uk
X-WR-CALDESC:Events for Claygate Clinic
REFRESH-INTERVAL;VALUE=DURATION:PT1H
X-Robots-Tag:noindex
X-PUBLISHED-TTL:PT1H
BEGIN:VTIMEZONE
TZID:UTC
BEGIN:STANDARD
TZOFFSETFROM:+0000
TZOFFSETTO:+0000
TZNAME:UTC
DTSTART:20230101T000000
END:STANDARD
END:VTIMEZONE
BEGIN:VEVENT
DTSTART;TZID=UTC:20241221T090000
DTEND;TZID=UTC:20241221T120000
DTSTAMP:20260419T223153
CREATED:20241107T184526Z
LAST-MODIFIED:20241107T184526Z
UID:10000069-1734771600-1734782400@claygateclinic.co.uk
SUMMARY:Winter Solstice Yoga Event
DESCRIPTION:
URL:https://claygateclinic.co.uk/event/winter-solstice-yoga-event/
LOCATION:Claygate Clinic Studio\, 5 Sydney Terrace\, Claygate\, United Kingdom
ORGANIZER;CN="Alex Byrne":MAILTO:contact@beetlebum.net
END:VEVENT
END:VCALENDAR