BEGIN:VCALENDAR
VERSION:2.0
PRODID:-//Claygate Clinic - ECPv6.15.18//NONSGML v1.0//EN
CALSCALE:GREGORIAN
METHOD:PUBLISH
X-ORIGINAL-URL:https://claygateclinic.co.uk
X-WR-CALDESC:Events for Claygate Clinic
REFRESH-INTERVAL;VALUE=DURATION:PT1H
X-Robots-Tag:noindex
X-PUBLISHED-TTL:PT1H
BEGIN:VTIMEZONE
TZID:UTC
BEGIN:STANDARD
TZOFFSETFROM:+0000
TZOFFSETTO:+0000
TZNAME:UTC
DTSTART:20280101T000000
END:STANDARD
END:VTIMEZONE
BEGIN:VEVENT
DTSTART;TZID=UTC:20290215T190000
DTEND;TZID=UTC:20290215T200000
DTSTAMP:20260420T030728
CREATED:20251017T114207Z
LAST-MODIFIED:20251017T120502Z
UID:10005470-1865876400-1865880000@claygateclinic.co.uk
SUMMARY:Yoga
DESCRIPTION:
URL:https://claygateclinic.co.uk/event/yoga-2/2029-02-15/
END:VEVENT
END:VCALENDAR