BEGIN:VCALENDAR
VERSION:2.0
PRODID:-//Claygate Clinic - ECPv6.15.18//NONSGML v1.0//EN
CALSCALE:GREGORIAN
METHOD:PUBLISH
X-ORIGINAL-URL:https://claygateclinic.co.uk
X-WR-CALDESC:Events for Claygate Clinic
REFRESH-INTERVAL;VALUE=DURATION:PT1H
X-Robots-Tag:noindex
X-PUBLISHED-TTL:PT1H
BEGIN:VTIMEZONE
TZID:UTC
BEGIN:STANDARD
TZOFFSETFROM:+0000
TZOFFSETTO:+0000
TZNAME:UTC
DTSTART:20280101T000000
END:STANDARD
END:VTIMEZONE
BEGIN:VEVENT
DTSTART;TZID=UTC:20290227T093000
DTEND;TZID=UTC:20290227T103000
DTSTAMP:20260420T030731
CREATED:20260126T120239Z
LAST-MODIFIED:20260126T120239Z
UID:10005767-1866879000-1866882600@claygateclinic.co.uk
SUMMARY:Beginners Yoga Class
DESCRIPTION:
URL:https://claygateclinic.co.uk/event/beginners-yoga-class/2029-02-27/
ORGANIZER;CN="Pallavi":MAILTO:palls303@gmail.com
END:VEVENT
BEGIN:VEVENT
DTSTART;TZID=UTC:20290227T183000
DTEND;TZID=UTC:20290227T193000
DTSTAMP:20260420T030731
CREATED:20250218T083227Z
LAST-MODIFIED:20250218T083227Z
UID:10003215-1866911400-1866915000@claygateclinic.co.uk
SUMMARY:Pilates 6:30PM
DESCRIPTION:
URL:https://claygateclinic.co.uk/event/pilates-630pm/2029-02-27/
LOCATION:Claygate Clinic Studio\, 5 Sydney Terrace\, Claygate\, United Kingdom
ORGANIZER;CN="Natasha Govind":MAILTO:pilateswith.natasha1@gmail.com
END:VEVENT
END:VCALENDAR